BEGIN:VCALENDAR
VERSION:2.0
PRODID:www.gruene-sj.de
METHOD:PUBLISH
BEGIN:VTIMEZONE
TZID:Europe/Berlin
X-LIC-LOCATION:Europe/Berlin
BEGIN:DAYLIGHT
TZOFFSETFROM:+0100
TZOFFSETTO:+0200
TZNAME:CEST
DTSTART:19700329T020000
RRULE:FREQ=YEARLY;INTERVAL=1;BYDAY=-1SU;BYMONTH=3
END:DAYLIGHT
BEGIN:STANDARD
TZOFFSETFROM:+0200
TZOFFSETTO:+0100
TZNAME:CET
DTSTART:19701025T030000
RRULE:FREQ=YEARLY;INTERVAL=1;BYDAY=-1SU;BYMONTH=10
END:STANDARD
END:VTIMEZONE
BEGIN:VEVENT
UID:7d4b5a8f3db83d50215e5e72d4624722@www.gruene-sj.de
URL;VALUE=URI:https://www.gruene-sj.de/termine/offener-sommer-treff-beim-
 deese-oddo/
LOCATION:Deese Oddo
SUMMARY:Offener Sommer-Treff beim „Deese Oddo“
DESCRIPTION;ALTREP="data:text/html,%0A%3Cp%3EIn%20der%201.%2C%203.%20und%
 205.%20Ferienwoche%20gibt%20es%20jeweils%20die%20M%C3%B6glichkeit%20in%20
 unterschiedlichen%20Ortsteilen%2C%20Mitglieder%20der%20GR%C3%9CNEN%20kenn
 enzulernen%20und%20mit%20ihnen%20ins%20Gespr%C3%A4ch%20zu%20kommen.%3C%2F
 p%3E%0A":In der 1.\, 3. und 5. Ferienwoche gibt es jeweils die Möglichke
 it in unterschiedlichen Ortsteilen\, Mitglieder der GRÜNEN kennenzulerne
 n und mit ihnen ins Gespräch zu kommen.
CLASS:PUBLIC
DTSTART;TZID=Europe/Berlin:20250807T193000
DTEND;TZID=Europe/Berlin:20250807T203000
DTSTAMP:20260422T095754
END:VEVENT
END:VCALENDAR