BEGIN:VCALENDAR
VERSION:2.0
PRODID:www.gruene-sj.de
METHOD:PUBLISH
BEGIN:VTIMEZONE
TZID:Europe/Berlin
X-LIC-LOCATION:Europe/Berlin
BEGIN:DAYLIGHT
TZOFFSETFROM:+0100
TZOFFSETTO:+0200
TZNAME:CEST
DTSTART:19700329T020000
RRULE:FREQ=YEARLY;INTERVAL=1;BYDAY=-1SU;BYMONTH=3
END:DAYLIGHT
BEGIN:STANDARD
TZOFFSETFROM:+0200
TZOFFSETTO:+0100
TZNAME:CET
DTSTART:19701025T030000
RRULE:FREQ=YEARLY;INTERVAL=1;BYDAY=-1SU;BYMONTH=10
END:STANDARD
END:VTIMEZONE
BEGIN:VEVENT
UID:368fc96de7a88833ef355394cfacbefc@www.gruene-sj.de
URL;VALUE=URI:https://www.gruene-sj.de/termine/mitgliederversammlung-orts
 verband-buendnis-90-die-gruenen/
LOCATION:Villa Journal, Sandmühlstraße, Seeheim-Jugenheim
SUMMARY:Mitgliederversammlung  Ortsverband BÜNDNIS 90/DIE GRÜNEN
DESCRIPTION;ALTREP="data:text/html,%0A%3Cp%3EDer%20Ortsverband%20B%C3%9CN
 DNIS%2090%2FDIE%20GR%C3%9CNEN%20l%C3%A4dt%20seine%20Mitglieder%20zur%20or
 dentlichen%20Jahreshauptversammlung%20und%20Neuwahl%20f%C3%BCr%20die%20Ka
 ssenf%C3%BChrung%20im%20Vorstand%20ein.%20Im%20Anschluss%20an%20die%20Mit
 gliederversammlung%20m%C3%B6chten%20wir%20noch%20gem%C3%BCtlich%20zusamme
 n%20sitzen%2C%20auf%20das%20vergangene%20Jahr%20zur%C3%BCckschauen%20und%
 20uns%20auf%20das%20neue%20Jahr%20einstimmen.%3C%2Fp%3E%0A%0A%0A%0A%3Cp%3
 E%3C%2Fp%3E%0A":Der Ortsverband BÜNDNIS 90/DIE GRÜNEN lädt seine Mitgl
 ieder zur ordentlichen Jahreshauptversammlung und Neuwahl für die Kassen
 führung im Vorstand ein. Im Anschluss an die Mitgliederversammlung möch
 ten wir noch gemütlich zusammen sitzen\, auf das vergangene Jahr zurück
 schauen und uns auf das neue Jahr einstimmen.
CLASS:PUBLIC
DTSTART;TZID=Europe/Berlin:20251212T180000
DTEND;TZID=Europe/Berlin:20251212T190000
DTSTAMP:20260422T100458
END:VEVENT
END:VCALENDAR