BEGIN:VCALENDAR
VERSION:2.0
PRODID:www.gruene-sj.de
METHOD:PUBLISH
BEGIN:VTIMEZONE
TZID:Europe/Berlin
X-LIC-LOCATION:Europe/Berlin
BEGIN:DAYLIGHT
TZOFFSETFROM:+0100
TZOFFSETTO:+0200
TZNAME:CEST
DTSTART:19700329T020000
RRULE:FREQ=YEARLY;INTERVAL=1;BYDAY=-1SU;BYMONTH=3
END:DAYLIGHT
BEGIN:STANDARD
TZOFFSETFROM:+0200
TZOFFSETTO:+0100
TZNAME:CET
DTSTART:19701025T030000
RRULE:FREQ=YEARLY;INTERVAL=1;BYDAY=-1SU;BYMONTH=10
END:STANDARD
END:VTIMEZONE
BEGIN:VEVENT
UID:319b5e6d752e645b0ad996450ac02323@www.gruene-sj.de
URL;VALUE=URI:https://www.gruene-sj.de/termine/eure-themen-unsere-themen-
 2/
LOCATION:GRÜNES Büro, Bergstraße 1a, Seeheim
SUMMARY:Eure Themen – unsere Themen
DESCRIPTION;ALTREP="data:text/html,%0A%3Ch2%20class%3D%22wp-block-heading
 %22%3EMit%20Kandidat%2Ainnen%20im%20Gespr%C3%A4ch.%3C%2Fh2%3E%0A%0A%0A%0A
 %3Cp%3EIhr%20wollt%20mehr%20%C3%BCber%20unsere%20Themen%20aus%20unserem%2
 0Wahlprogramm%20wissen%3F%20Oder%20habt%20eigene%20Themen%2C%20die%20ihr%
 20unseren%20Kandidierenden%20n%C3%A4herbringen%20wollt%3F%3C%2Fp%3E%0A%0A
 %0A%0A%3Cp%3EDas%20ist%20euer%20Abend%21%20Unser%20Spitzenduo%20Katja%20E
 bert%20und%20Bernd%20Renz%20sowie%20viele%20andere%20Kandidierende%20freu
 en%20sich%20auf%20euch%21%3C%2Fp%3E%0A%0A%0A%0A%3Cp%3E%3C%2Fp%3E%0A":Mit 
 Kandidat*innen im Gespräch.\n\nIhr wollt mehr über unsere Themen aus un
 serem Wahlprogramm wissen? Oder habt eigene Themen\, die ihr unseren Kand
 idierenden näherbringen wollt?\n\nDas ist euer Abend! Unser Spitzenduo K
 atja Ebert und Bernd Renz sowie viele andere Kandidierende freuen sich au
 f euch!
CLASS:PUBLIC
DTSTART;TZID=Europe/Berlin:20260313T193000
DTEND;TZID=Europe/Berlin:20260313T203000
DTSTAMP:20260422T100904
END:VEVENT
END:VCALENDAR